BEGIN:VCALENDAR
VERSION:2.0
PRODID:-//calendula.events//Swap dell'orto //IT
CALSCALE:GREGORIAN
METHOD:PUBLISH
X-WR-TIMEZONE:UTC
X-WR-CALNAME:Swap dell'orto 
X-WR-CALDESC:Swap dell'orto 
X-WR-TIMEZONE:Europe/Rome
BEGIN:VEVENT
DTSTART;VALUE=DATE:20260503
DTEND;VALUE=DATE:20260503
DTSTAMP:20260423T112344Z
UID:@958cdc032edffcda384ece0106c1d539@calendula.events
ORGANIZER;CN=Associazione di Promozione Sociale “traME e TErra” :MAILTO:webmaster@calendula.events
SUMMARY:Swap dell'orto 
LOCATION:
DESCRIPTION:
  ???? ✨ Torna SWAP ORTO!  ✨???? 
  Un pomeriggio di primavera per far circolare semi, piantine e buone idee…  ????



  ???? Domenica 3 maggio 2026 |  ???? 15:30 
  ???? Giardino APSP "San Giuseppe"  Primiero


  Porta fino a 5 cose (semi, piantine, attrezzi, libri a tema…) potrai
  scambiarle con  max altre 5  portate da  chi, come te, ha voglia di mettere
  le mani nella terra  ???????????? 
  ???? Durante lo swap interverranno: S low Food
  Primiero, Parco Paneveggio Pale di San Martino, Ecomuseo del Vanoi e
  Distretto Vanoi APS, per condividere spunti e idee "green" ???? 
  ???? Nel pomeriggio anche un laboratorio creativo "Colorati decori da
  giardino" in collaborazione con El Grop - Lab. Creativo Centro
  residenziale Piccolo Principe 


  ???? Evento realizzato in rete con: APSP "San Giuseppe", Distretto Family
  Green di Primiero,  Associazione TraME e TErra, Spazio Argento, El Grop -
  Lab. Creativo (CR Piccolo Principe), Parco Paneveggio Pale di San Martino,
  Ecomuseo del Vanoi, Slowfood Primiero, Coop Vales Scs.
  ✅ Partecipazione libera e gratuita  ???? Info: 328
  2421955

STATUS:CONFIRMED
END:VEVENT
END:VCALENDAR