BEGIN:VCALENDAR
VERSION:2.0
PRODID:-//calendula.events//Torna SWAP ORTO!//IT
CALSCALE:GREGORIAN
METHOD:PUBLISH
X-WR-TIMEZONE:UTC
X-WR-CALNAME:Torna SWAP ORTO!
X-WR-CALDESC:Torna SWAP ORTO!
X-WR-TIMEZONE:Europe/Rome
BEGIN:VEVENT
DTSTART;VALUE=DATE:20260503
DTEND;VALUE=DATE:20260503
DTSTAMP:20260423T104829Z
UID:@56460c86d51fe2c99bf1480b85921832@calendula.events
ORGANIZER;CN=Comunità di Primiero:MAILTO:webmaster@calendula.events
SUMMARY:Torna SWAP ORTO!
LOCATION:
DESCRIPTION:
  Porta fino a 5 cose (semi, piantine, attrezzi, libri a tema…) potrai
  scambiarle con max altre 5 portate da chi, come te, ha voglia di mettere le
  mani nella terra
  Durante lo swap interverranno: S low Food Primiero,
  Parco Paneveggio Pale di San Martino, Ecomuseo del Vanoi e Distretto Vanoi
  APS, per condividere spunti e idee "green"
  Nel pomeriggio anche un laboratorio creativo "Colorati decori da
  giardino" in collaborazione con El Grop - Lab. Creativo Centro
  residenziale Piccolo Principe



  Evento realizzato in rete con: APSP "San Giuseppe", Distretto Family
  Green di Primiero, Associazione TraME e TErra, Spazio Argento, El Grop - Lab.
  Creativo (CR Piccolo Principe), Parco Paneveggio Pale di San Martino,
  Ecomuseo del Vanoi, Slowfood Primiero, Coop Vales Scs.
  ✅ Partecipazione libera e gratuita Info:
  Associazione TraME e TErra 328 2421955

STATUS:CONFIRMED
END:VEVENT
END:VCALENDAR