BEGIN:VCALENDAR
VERSION:2.0
PRODID:-//calendula.events//Soundwalk//IT
CALSCALE:GREGORIAN
METHOD:PUBLISH
X-WR-TIMEZONE:UTC
X-WR-CALNAME:Soundwalk
X-WR-CALDESC:Soundwalk
X-WR-TIMEZONE:Europe/Rome
BEGIN:VEVENT
DTSTART;VALUE=DATE:
DTEND;VALUE=DATE:
DTSTAMP:20260419T221149Z
UID:@01d448b487f85c4c64d844ce74769cf7@calendula.events
ORGANIZER;CN=Associazione &quot;Ecomuseo del Vanoi&quot; :MAILTO:webmaster@calendula.events
SUMMARY:Soundwalk
LOCATION:Caoria, Ponte Stèl -  Valle del Vanoi
DESCRIPTION:
  Passeggiata con gli esperti del MUSE - Museo delle Scienze, per riscoprire il
  paesaggio attraverso i suoni all'interno del progetto "Ecos. Paesaggi sonori
  negli Ecomusei"



  Maggiori info: Tel 0439-719106 | info@ecomuseo.vanoi.it


  Caoria, Ponte Stèl, ore 14.00


  Iniziativa a cura di Ecomuseo del Vanoi

STATUS:CONFIRMED
END:VEVENT
END:VCALENDAR