BEGIN:VCALENDAR
VERSION:2.0
PRODID:-//calendula.events//Cinema sotto le stelle//IT
CALSCALE:GREGORIAN
METHOD:PUBLISH
X-WR-TIMEZONE:UTC
X-WR-CALNAME:Cinema sotto le stelle
X-WR-CALDESC:Cinema sotto le stelle
X-WR-TIMEZONE:Europe/Rome
BEGIN:VEVENT
DTSTART;VALUE=DATE:
DTEND;VALUE=DATE:
DTSTAMP:20260421T105848Z
UID:@67737bac9847cb13cd4df34ace02ea0c@calendula.events
ORGANIZER;CN=Associazione &quot;Ecomuseo del Vanoi&quot; :MAILTO:webmaster@calendula.events
SUMMARY:Cinema sotto le stelle
LOCATION:Canal San Bovo, Piazzetta Civitella Alfedena
DESCRIPTION:
  Proiezione cinematografica all'aperto.


  Calendario


  
    Giovedì 31 luglio - Canal San Bovo, Piazzetta Civitella Alfedena,
    ore 21.00
    
    
      "In cammino per l'acqua, dal Vanoi a Venezia" , un
      docufilm di Marco Pavan adatto a tutti.
    
    
  
  
    Giovedì 7 agosto - Canal San Bovo, Piazzetta Civitella Alfedena,
    ore 21.00
    
    
      Proiezione di un film adatto a tutti.
    
    
  


  Per info: Tel. 340-3768069 | 0439-719106 |
info@ecomuseo.vanoi.it
STATUS:CONFIRMED
END:VEVENT
END:VCALENDAR