BEGIN:VCALENDAR
VERSION:2.0
PRODID:-//calendula.events//Un Passo di storia//IT
CALSCALE:GREGORIAN
METHOD:PUBLISH
X-WR-TIMEZONE:UTC
X-WR-CALNAME:Un Passo di storia
X-WR-CALDESC:Un Passo di storia
X-WR-TIMEZONE:Europe/Rome
BEGIN:VEVENT
DTSTART;VALUE=DATE:
DTEND;VALUE=DATE:
DTSTAMP:20260421T110447Z
UID:@99dc51b36b742f94a4f076b48ce66c3b@calendula.events
ORGANIZER;CN=Associazione &quot;Ecomuseo del Vanoi&quot; :MAILTO:webmaster@calendula.events
SUMMARY:Un Passo di storia
LOCATION:Casa dell'Ecomuseo, Canal San Bovo
DESCRIPTION:
  Inaugurazione della mostra che documenta gli oltre 110 anni di storia del
  Passo Broccon, dagli eventi bellici del primo conflitto mondiale alle
  attività di integrazione e turismo.



  Canal San Bovo, Casa dell''Ecomuseo, ore
  20.30

STATUS:CONFIRMED
END:VEVENT
END:VCALENDAR