BEGIN:VCALENDAR
VERSION:2.0
PRODID:-//calendula.events//Imparare a far ceste e gerli//IT
CALSCALE:GREGORIAN
METHOD:PUBLISH
X-WR-TIMEZONE:UTC
X-WR-CALNAME:Imparare a far ceste e gerli
X-WR-CALDESC:Imparare a far ceste e gerli
X-WR-TIMEZONE:Europe/Rome
BEGIN:VEVENT
DTSTART;VALUE=DATE:
DTEND;VALUE=DATE:
DTSTAMP:20260419T151051Z
UID:@d8a742a14080641ca309c75c0843f4eb@calendula.events
ORGANIZER;CN=Associazione &quot;Ecomuseo del Vanoi&quot; :MAILTO:webmaster@calendula.events
SUMMARY:Imparare a far ceste e gerli
LOCATION:Casa dell'Ecomuseo del Vanoi, Canal San Bovo
DESCRIPTION:
  A grande richiesta si ripropone il corso laboratorio per la realizzazione di
  robuste ceste e gerle col metodo tradizionale in legno di nocciolo a cura dei
  maestri Adriano Fontana, Edoardo Barolo e Luigi Rattin.
  Iscrizione obbligatoria allo 0439.719106


  Incontro organizzativo martedì 17 dicembre ore 20.30

STATUS:CONFIRMED
END:VEVENT
END:VCALENDAR