BEGIN:VCALENDAR
VERSION:2.0
PRODID:-//calendula.events//Con il cuore nello Zaino//IT
CALSCALE:GREGORIAN
METHOD:PUBLISH
X-WR-TIMEZONE:UTC
X-WR-CALNAME:Con il cuore nello Zaino
X-WR-CALDESC:Con il cuore nello Zaino
X-WR-TIMEZONE:Europe/Rome
BEGIN:VEVENT
DTSTART:T20:30:00
DTEND:T22:30:00
DTSTAMP:20260422T091705Z
UID:@471d91969a4e6ea97bc7078efb9f8e5a@calendula.events
ORGANIZER;CN=Comune di Imer:MAILTO:webmaster@calendula.events
SUMMARY:Con il cuore nello Zaino
LOCATION:
DESCRIPTION:Con  i racconti di Luisa, Fabio, Mario e Nadia.
STATUS:CONFIRMED
END:VEVENT
END:VCALENDAR