BEGIN:VCALENDAR
VERSION:2.0
PRODID:-//calendula.events//Dal Vanoi a Venezia § A piedi si può!//IT
CALSCALE:GREGORIAN
METHOD:PUBLISH
X-WR-TIMEZONE:UTC
X-WR-CALNAME:Dal Vanoi a Venezia § A piedi si può!
X-WR-CALDESC:Dal Vanoi a Venezia § A piedi si può!
X-WR-TIMEZONE:Europe/Rome
BEGIN:VEVENT
DTSTART:T20:30:00
DTEND:T22:00:00
DTSTAMP:20260421T105848Z
UID:@d97ecd6969956ba66738dd170e503295@calendula.events
ORGANIZER;CN=Associazione &quot;Ecomuseo del Vanoi&quot; :MAILTO:webmaster@calendula.events
SUMMARY:Dal Vanoi a Venezia § A piedi si può!
LOCATION:Casa dell'Ecomuseo del Vanoi, Canal San Bovo
DESCRIPTION:Il cammino del fiume di legno dal Vanoi a Venezia.  Presentazione&nbsp; dell’idea di un cammino a piedi in 6/7 tappe dalla montagna fino alla Laguna.
STATUS:CONFIRMED
END:VEVENT
END:VCALENDAR