BEGIN:VCALENDAR
VERSION:2.0
PRODID:-//calendula.events//Serata Danzante//IT
CALSCALE:GREGORIAN
METHOD:PUBLISH
X-WR-TIMEZONE:UTC
X-WR-CALNAME:Serata Danzante
X-WR-CALDESC:Serata Danzante
X-WR-TIMEZONE:Europe/Rome
BEGIN:VEVENT
DTSTART;VALUE=DATE:
DTEND;VALUE=DATE:
DTSTAMP:20260421T110912Z
UID:@1a15558627e521ff138caad67b9cf438@calendula.events
ORGANIZER;CN=Associazione &quot;Ecomuseo del Vanoi&quot; :MAILTO:webmaster@calendula.events
SUMMARY:Serata Danzante
LOCATION:Tendone degli Alpini, Caoria
DESCRIPTION:Sulle note della fisarmonica di Luciano.
STATUS:CONFIRMED
END:VEVENT
END:VCALENDAR