BEGIN:VCALENDAR
VERSION:2.0
PRODID:-//calendula.events//Tour delle Malghe//IT
CALSCALE:GREGORIAN
METHOD:PUBLISH
X-WR-TIMEZONE:UTC
X-WR-CALNAME:Tour delle Malghe
X-WR-CALDESC:Tour delle Malghe
X-WR-TIMEZONE:Europe/Rome
BEGIN:VEVENT
DTSTART;VALUE=DATE:
DTEND;VALUE=DATE:
DTSTAMP:20260421T110315Z
UID:@aae6f219b6ba4ba024c0aeb513d8a927@calendula.events
ORGANIZER;CN=Associazione &quot;Ecomuseo del Vanoi&quot; :MAILTO:webmaster@calendula.events
SUMMARY:Tour delle Malghe
LOCATION:Località Refavaie, TN
DESCRIPTION:Salita fino a Malga Fosernica di Dentro con mezzi propri. Escursione Guidata ad anello fino a Malga Fossernica Di Fuori, attività in malga con degustazione prodotti del Caseificio di Primiero e rientro.
STATUS:CONFIRMED
END:VEVENT
END:VCALENDAR