BEGIN:VCALENDAR
VERSION:2.0
PRODID:-//calendula.events//Chi abita i prati?//IT
CALSCALE:GREGORIAN
METHOD:PUBLISH
X-WR-TIMEZONE:UTC
X-WR-CALNAME:Chi abita i prati?
X-WR-CALDESC:Chi abita i prati?
X-WR-TIMEZONE:Europe/Rome
BEGIN:VEVENT
DTSTART;VALUE=DATE:
DTEND;VALUE=DATE:
DTSTAMP:20260421T110448Z
UID:@3489729df4ed6520eba3e9c6ada1519b@calendula.events
ORGANIZER;CN=Associazione &quot;Ecomuseo del Vanoi&quot; :MAILTO:webmaster@calendula.events
SUMMARY:Chi abita i prati?
LOCATION:Pont de Stel, Caoria
DESCRIPTION:Laboratorio alla scoperta dei piccoli animali che abitano nei prati e nei boschi vicini per riprodurli con il fieno e i materiali naturali. Per bambini e famiglie. Costo € 5,00 a bambino. Prenotazione obbligatoria al 0439-719106.Caoria, ritrovo presso il Bar alla Siega, Ponte Stél,ore 15.00
STATUS:CONFIRMED
END:VEVENT
END:VCALENDAR